BEGIN:VCALENDAR
VERSION:2.0
PRODID:-//eventon.com NONSGML v1.0//EN
CALSCALE:GREGORIAN
METHOD:PUBLISH
BEGIN:VEVENT
UID:69e5d932de518
DTSTAMP:20260420T074346Z
DTSTART:20251231T225900Z
DTEND:20251231T225900Z
LOCATION:
SUMMARY:Pflanzenschutzdokumentation abgeschlossen haben
DESCRIPTION:Pflanzenschutzdokumentation abgeschlossen haben\nhttps://www.ku
 hpower.eu/events/pflanzenschutzdokumentation-abgeschlossen-haben
URL:https://www.kuhpower.eu/events/pflanzenschutzdokumentation-abgeschlossen-haben
END:VEVENT
END:VCALENDAR