BEGIN:VCALENDAR
VERSION:2.0
PRODID:-//eventon.com NONSGML v1.0//EN
CALSCALE:GREGORIAN
METHOD:PUBLISH
BEGIN:VEVENT
UID:69e65712e0fd7
DTSTAMP:20260420T164050Z
DTSTART:20251231T225900Z
DTEND:20251231T225900Z
LOCATION:
SUMMARY:N-Kulissen Pflichtberatung\,  wenn man neu in der Kulisse ist
DESCRIPTION:N-Kulissen Pflichtberatung\,  wenn man neu in der Kulisse ist\n
 https://www.kuhpower.eu/events/n-kulissen-pflichtberatung-wenn-man-neu-in-d
 er-kulisse-ist
URL:https://www.kuhpower.eu/events/n-kulissen-pflichtberatung-wenn-man-neu-in-der-kulisse-ist
END:VEVENT
END:VCALENDAR